
BEGIN:VCALENDAR
VERSION:2.0
PRODID:-//Bakken Young Funeral Home - River Falls and New Richmond Wisconsin - ECPv6.15.20//NONSGML v1.0//EN
CALSCALE:GREGORIAN
METHOD:PUBLISH
X-ORIGINAL-URL:https://bakken-young.com
X-WR-CALDESC:Events for Bakken Young Funeral Home - River Falls and New Richmond Wisconsin
REFRESH-INTERVAL;VALUE=DURATION:PT1H
X-Robots-Tag:noindex
X-PUBLISHED-TTL:PT1H
BEGIN:VTIMEZONE
TZID:America/Chicago
BEGIN:DAYLIGHT
TZOFFSETFROM:-0600
TZOFFSETTO:-0500
TZNAME:CDT
DTSTART:20220313T080000
END:DAYLIGHT
BEGIN:STANDARD
TZOFFSETFROM:-0500
TZOFFSETTO:-0600
TZNAME:CST
DTSTART:20221106T070000
END:STANDARD
BEGIN:DAYLIGHT
TZOFFSETFROM:-0600
TZOFFSETTO:-0500
TZNAME:CDT
DTSTART:20230312T080000
END:DAYLIGHT
BEGIN:STANDARD
TZOFFSETFROM:-0500
TZOFFSETTO:-0600
TZNAME:CST
DTSTART:20231105T070000
END:STANDARD
BEGIN:DAYLIGHT
TZOFFSETFROM:-0600
TZOFFSETTO:-0500
TZNAME:CDT
DTSTART:20240310T080000
END:DAYLIGHT
BEGIN:STANDARD
TZOFFSETFROM:-0500
TZOFFSETTO:-0600
TZNAME:CST
DTSTART:20241103T070000
END:STANDARD
BEGIN:DAYLIGHT
TZOFFSETFROM:-0600
TZOFFSETTO:-0500
TZNAME:CDT
DTSTART:20250309T080000
END:DAYLIGHT
BEGIN:STANDARD
TZOFFSETFROM:-0500
TZOFFSETTO:-0600
TZNAME:CST
DTSTART:20251102T070000
END:STANDARD
BEGIN:DAYLIGHT
TZOFFSETFROM:-0600
TZOFFSETTO:-0500
TZNAME:CDT
DTSTART:20260308T080000
END:DAYLIGHT
BEGIN:STANDARD
TZOFFSETFROM:-0500
TZOFFSETTO:-0600
TZNAME:CST
DTSTART:20261101T070000
END:STANDARD
END:VTIMEZONE
BEGIN:VTIMEZONE
TZID:UTC
BEGIN:STANDARD
TZOFFSETFROM:+0000
TZOFFSETTO:+0000
TZNAME:UTC
DTSTART:20170101T000000
END:STANDARD
END:VTIMEZONE
BEGIN:VEVENT
DTSTART;TZID=America/Chicago:20251204T180000
DTEND;TZID=America/Chicago:20251204T190000
DTSTAMP:20260423T035400
CREATED:20250725T151342Z
LAST-MODIFIED:20251023T234731Z
UID:26185-1764871200-1764874800@bakken-young.com
SUMMARY:Service of Remembrance - New Richmond
DESCRIPTION:Holidays can be a roller coaster of emotions after the death of someone special. \nYou and your family are invited to this meaningful event of remembrance \nThursday\, December 4\, Bakken-Young New Richmond \n6:00 pm \nAn invitation will be mailed in November. \n 
URL:https://bakken-young.com/event/service-of-remembrance-new-richmond/
LOCATION:Bakken-Young Funeral & Cremation Services New Richmond\, 728 S Knowles Avenue\, New Richmond\, WI\, 54017\, United States
ATTACH;FMTTYPE=image/png:https://bakken-young.com/wp-content/uploads/2025/07/2025-12-04.png
GEO:45.1154839;-92.5374943
X-APPLE-STRUCTURED-LOCATION;VALUE=URI;X-ADDRESS=Bakken-Young Funeral & Cremation Services New Richmond 728 S Knowles Avenue New Richmond WI 54017 United States;X-APPLE-RADIUS=500;X-TITLE=728 S Knowles Avenue:geo:-92.5374943,45.1154839
END:VEVENT
BEGIN:VEVENT
DTSTART;TZID=America/Chicago:20241203T180000
DTEND;TZID=America/Chicago:20241203T190000
DTSTAMP:20260423T035400
CREATED:20240622T124402Z
LAST-MODIFIED:20241206T220800Z
UID:23052-1733248800-1733252400@bakken-young.com
SUMMARY:Service of Remembrance
DESCRIPTION:Holidays can be a difficult time after the death of someone special. \nYou and your family are invited for this meaningful event of remembrance on \nTuesday\, December 3\, Bakken-Young New Richmond \n6:00 pm \nThe same service is held at both locations. \nIf Tuesday is not convenient\, join us Thursday\, December 5\, Bakken-Young River Falls. \nAn invitation will be forthcoming by mail in November.
URL:https://bakken-young.com/event/service-of-remembrance-8/
LOCATION:Bakken-Young Funeral & Cremation Services New Richmond\, 728 S Knowles Avenue\, New Richmond\, WI\, 54017\, United States
GEO:45.1154839;-92.5374943
X-APPLE-STRUCTURED-LOCATION;VALUE=URI;X-ADDRESS=Bakken-Young Funeral & Cremation Services New Richmond 728 S Knowles Avenue New Richmond WI 54017 United States;X-APPLE-RADIUS=500;X-TITLE=728 S Knowles Avenue:geo:-92.5374943,45.1154839
END:VEVENT
BEGIN:VEVENT
DTSTART;TZID=America/Chicago:20231207T180000
DTEND;TZID=America/Chicago:20231207T183000
DTSTAMP:20260423T035400
CREATED:20230602T113039Z
LAST-MODIFIED:20230621T192919Z
UID:19292-1701972000-1701973800@bakken-young.com
SUMMARY:Service of Remembrance
DESCRIPTION:Join us for Bakken-Young’s  \nService of Remembrance. \nHolidays can be a difficult time after the death of someone special. \nYou and your family are invited to join us at our facility\, \nfor this meaningful event of remembrance. \nTuesday\, December 5\, 2023\, Bakken-Young River Falls \nor Thursday\, December 7\, 2023 Bakken-Young New Richmond \n6:00pm \nAn invitation will be forthcoming by mail in November.
URL:https://bakken-young.com/event/service-of-remembrance-6/
LOCATION:Bakken-Young Funeral & Cremation Services New Richmond\, 728 S Knowles Avenue\, New Richmond\, WI\, 54017\, United States
ATTACH;FMTTYPE=image/png:https://bakken-young.com/wp-content/uploads/2023/06/2.ServiceOfRemembrance.png
GEO:45.1154839;-92.5374943
X-APPLE-STRUCTURED-LOCATION;VALUE=URI;X-ADDRESS=Bakken-Young Funeral & Cremation Services New Richmond 728 S Knowles Avenue New Richmond WI 54017 United States;X-APPLE-RADIUS=500;X-TITLE=728 S Knowles Avenue:geo:-92.5374943,45.1154839
END:VEVENT
BEGIN:VEVENT
DTSTART;TZID=UTC:20191213T110000
DTEND;TZID=UTC:20191213T123000
DTSTAMP:20260423T035400
CREATED:20190811T165137Z
LAST-MODIFIED:20190811T165137Z
UID:9198-1576234800-1576240200@bakken-young.com
SUMMARY:Tear Soup - A Meal and Discussion
DESCRIPTION:Join us for this grief support event as we share a meal of soup \nand discuss what it means to make “tear soup” a metaphor for grieving and ways of coping.  \nFriday\, December 13\, 11:00-12:30pm\, \nBakken-Young Funeral & Cremations Services\, \nNew Richmond\, Family Lounge. \nPlease RSVP by Wed. Dec. 11. \n 
URL:https://bakken-young.com/event/tear-soup-a-meal-and-discussion/
LOCATION:Bakken-Young Funeral & Cremation Services New Richmond\, 728 S Knowles Avenue\, New Richmond\, WI\, 54017\, United States
GEO:45.1154839;-92.5374943
X-APPLE-STRUCTURED-LOCATION;VALUE=URI;X-ADDRESS=Bakken-Young Funeral & Cremation Services New Richmond 728 S Knowles Avenue New Richmond WI 54017 United States;X-APPLE-RADIUS=500;X-TITLE=728 S Knowles Avenue:geo:-92.5374943,45.1154839
END:VEVENT
BEGIN:VEVENT
DTSTART;TZID=UTC:20191213T110000
DTEND;TZID=UTC:20191213T123000
DTSTAMP:20260423T035400
CREATED:20190811T165137Z
LAST-MODIFIED:20190811T165137Z
UID:21259-1576234800-1576240200@bakken-young.com
SUMMARY:Tear Soup - A Meal and Discussion
DESCRIPTION:Join us for this grief support event as we share a meal of soup \nand discuss what it means to make “tear soup” a metaphor for grieving and ways of coping.  \nFriday\, December 13\, 11:00-12:30pm\, \nBakken-Young Funeral & Cremations Services\, \nNew Richmond\, Family Lounge. \nPlease RSVP by Wed. Dec. 11. \n 
URL:https://bakken-young.com/event/tear-soup-a-meal-and-discussion-2/
LOCATION:Bakken-Young Funeral & Cremation Services New Richmond\, 728 S Knowles Avenue\, New Richmond\, WI\, 54017\, United States
GEO:45.1154839;-92.5374943
X-APPLE-STRUCTURED-LOCATION;VALUE=URI;X-ADDRESS=Bakken-Young Funeral & Cremation Services New Richmond 728 S Knowles Avenue New Richmond WI 54017 United States;X-APPLE-RADIUS=500;X-TITLE=728 S Knowles Avenue:geo:-92.5374943,45.1154839
END:VEVENT
BEGIN:VEVENT
DTSTART;TZID=UTC:20191210T180000
DTEND;TZID=UTC:20191210T190000
DTSTAMP:20260423T035400
CREATED:20190811T164728Z
LAST-MODIFIED:20190811T164833Z
UID:9194-1576000800-1576004400@bakken-young.com
SUMMARY:Bakken-Young Service of Remembrance
DESCRIPTION:Bakken-Young will hold our annual Service of Remembrance inviting you and your family to join us \nfor this meaningful event near the holidays. \nDate:  Tuesday\, December 10\, 2019 \nTime: 6:00pm\, Bakken-Young Funeral & Cremation Services\, New Richmond \nAn invitation will be forthcoming by mail in November.
URL:https://bakken-young.com/event/bakken-young-service-of-remembrance/
LOCATION:Bakken-Young Funeral & Cremation Services New Richmond\, 728 S Knowles Avenue\, New Richmond\, WI\, 54017\, United States
GEO:45.1154839;-92.5374943
X-APPLE-STRUCTURED-LOCATION;VALUE=URI;X-ADDRESS=Bakken-Young Funeral & Cremation Services New Richmond 728 S Knowles Avenue New Richmond WI 54017 United States;X-APPLE-RADIUS=500;X-TITLE=728 S Knowles Avenue:geo:-92.5374943,45.1154839
END:VEVENT
BEGIN:VEVENT
DTSTART;TZID=UTC:20191210T180000
DTEND;TZID=UTC:20191210T190000
DTSTAMP:20260423T035400
CREATED:20190811T164728Z
LAST-MODIFIED:20190811T164728Z
UID:21258-1576000800-1576004400@bakken-young.com
SUMMARY:Bakken-Young Service of Remembrance
DESCRIPTION:Bakken-Young will hold our annual Service of Remembrance inviting you and your family to join us \nfor this meaningful event near the holidays. \nDate:  Tuesday\, December 10\, 2019 \nTime: 6:00pm\, Bakken-Young Funeral & Cremation Services\, New Richmond \nAn invitation will be forthcoming by mail in November.
URL:https://bakken-young.com/event/bakken-young-service-of-remembrance-3/
LOCATION:Bakken-Young Funeral & Cremation Services New Richmond\, 728 S Knowles Avenue\, New Richmond\, WI\, 54017\, United States
GEO:45.1154839;-92.5374943
X-APPLE-STRUCTURED-LOCATION;VALUE=URI;X-ADDRESS=Bakken-Young Funeral & Cremation Services New Richmond 728 S Knowles Avenue New Richmond WI 54017 United States;X-APPLE-RADIUS=500;X-TITLE=728 S Knowles Avenue:geo:-92.5374943,45.1154839
END:VEVENT
BEGIN:VEVENT
DTSTART;TZID=UTC:20190807T180000
DTEND;TZID=UTC:20190807T193000
DTSTAMP:20260423T035400
CREATED:20190725T154937Z
LAST-MODIFIED:20190809T164106Z
UID:9037-1565200800-1565206200@bakken-young.com
SUMMARY:Double Whammy - Coping with the Death of a Spouse while Parenting a Grieving Child
DESCRIPTION:Bakken-Young Grief Support Event for Widowed Parents  \n(Watching and discussing this recorded webinar)\nFor widowed parents\, addressing how to cope with your own grief while helping  your children deal with the loss.             \nJoin us as we share a meal of pizza and beverages\, \nto watch and discuss this webinar presented by the TAPS Institute for Hope and Healing®\, \nand led by Justin M. Yopp\, PhD\, moderated by Tina Barrett\, EdD\, LCPC.  \nThe webinar will focus on the unique grieving and parenting challenges that face  \nwidowed mothers and fathers\, as well as offer guidance for coping\, healing\, \n and reimaging life for the widowed and their children. \n  \nWednesday\, Aug. 7\, 2019 \n6:00pm-7:30pm  \nBakken-Young Funeral & Cremations Services \nNew Richmond\, Family Lounge \nPlease RSVP by Monday\, Aug. 5. \nRSVP for our Grief Support activities to: Julia Rajtar\, Grief Support Coordinator\,  \ntext or call 715-781-4003 or email julia.rajtar@bakken-young.com \nThis Event is Canceled. \nView PDF of Flyer Here
URL:https://bakken-young.com/event/double-whammy-coping-with-the-death-of-a-spouse-while-parenting-a-grieving-child/
LOCATION:Bakken-Young Funeral & Cremation Services New Richmond\, 728 S Knowles Avenue\, New Richmond\, WI\, 54017\, United States
GEO:45.1154839;-92.5374943
X-APPLE-STRUCTURED-LOCATION;VALUE=URI;X-ADDRESS=Bakken-Young Funeral & Cremation Services New Richmond 728 S Knowles Avenue New Richmond WI 54017 United States;X-APPLE-RADIUS=500;X-TITLE=728 S Knowles Avenue:geo:-92.5374943,45.1154839
END:VEVENT
BEGIN:VEVENT
DTSTART;TZID=UTC:20190807T180000
DTEND;TZID=UTC:20190807T193000
DTSTAMP:20260423T035400
CREATED:20190725T154937Z
LAST-MODIFIED:20190725T154937Z
UID:21245-1565200800-1565206200@bakken-young.com
SUMMARY:Double Whammy - Coping with the Death of a Spouse while Parenting a Grieving Child
DESCRIPTION:Bakken-Young Grief Support Event for Widowed Parents  \n(Watching and discussing this recorded webinar)\nFor widowed parents\, addressing how to cope with your own grief while helping  your children deal with the loss.             \nJoin us as we share a meal of pizza and beverages\, \nto watch and discuss this webinar presented by the TAPS Institute for Hope and Healing®\, \nand led by Justin M. Yopp\, PhD\, moderated by Tina Barrett\, EdD\, LCPC.  \nThe webinar will focus on the unique grieving and parenting challenges that face  \nwidowed mothers and fathers\, as well as offer guidance for coping\, healing\, \n and reimaging life for the widowed and their children. \n  \nWednesday\, Aug. 7\, 2019 \n6:00pm-7:30pm  \nBakken-Young Funeral & Cremations Services \nNew Richmond\, Family Lounge \nPlease RSVP by Monday\, Aug. 5. \nRSVP for our Grief Support activities to: Julia Rajtar\, Grief Support Coordinator\,  \ntext or call 715-781-4003 or email julia.rajtar@bakken-young.com \nThis Event is Canceled. \nView PDF of Flyer Here
URL:https://bakken-young.com/event/double-whammy-coping-with-the-death-of-a-spouse-while-parenting-a-grieving-child-2/
LOCATION:Bakken-Young Funeral & Cremation Services New Richmond\, 728 S Knowles Avenue\, New Richmond\, WI\, 54017\, United States
GEO:45.1154839;-92.5374943
X-APPLE-STRUCTURED-LOCATION;VALUE=URI;X-ADDRESS=Bakken-Young Funeral & Cremation Services New Richmond 728 S Knowles Avenue New Richmond WI 54017 United States;X-APPLE-RADIUS=500;X-TITLE=728 S Knowles Avenue:geo:-92.5374943,45.1154839
END:VEVENT
BEGIN:VEVENT
DTSTART;TZID=UTC:20181211T180000
DTEND;TZID=UTC:20181211T193000
DTSTAMP:20260423T035400
CREATED:20180703T191130Z
LAST-MODIFIED:20181110T184610Z
UID:6790-1544551200-1544556600@bakken-young.com
SUMMARY:Service of Remembrance
DESCRIPTION:During the holiday season\, we remember you and your deceased loved one\, at this Service of Remembrance. \nYou and your family are invited to join us at this meaningful event of care and support. \nDate:  Tuesday\, December 11\, 2018 \nTime:  6:00pm \nLocation: Bakken-Young Funeral & Cremation Services  \nNew Richmond WI.   \n728 S Knowles Avenue   \n715-243-5252 \nAn invitation will be forthcoming in the mail in November.
URL:https://bakken-young.com/event/service-of-remembrance-3/
LOCATION:Bakken-Young Funeral & Cremation Services New Richmond\, 728 S Knowles Avenue\, New Richmond\, WI\, 54017\, United States
GEO:45.1154839;-92.5374943
X-APPLE-STRUCTURED-LOCATION;VALUE=URI;X-ADDRESS=Bakken-Young Funeral & Cremation Services New Richmond 728 S Knowles Avenue New Richmond WI 54017 United States;X-APPLE-RADIUS=500;X-TITLE=728 S Knowles Avenue:geo:-92.5374943,45.1154839
END:VEVENT
BEGIN:VEVENT
DTSTART;TZID=UTC:20181211T180000
DTEND;TZID=UTC:20181211T193000
DTSTAMP:20260423T035400
CREATED:20180703T191130Z
LAST-MODIFIED:20180703T191130Z
UID:21212-1544551200-1544556600@bakken-young.com
SUMMARY:Service of Remembrance
DESCRIPTION:During the holiday season\, we remember you and your deceased loved one\, at this Service of Remembrance. \nYou and your family are invited to join us at this meaningful event of care and support. \nDate:  Tuesday\, December 11\, 2018 \nTime:  6:00pm \nLocation: Bakken-Young Funeral & Cremation Services  \nNew Richmond WI.   \n728 S Knowles Avenue   \n715-243-5252 \nAn invitation will be forthcoming in the mail in November.
URL:https://bakken-young.com/event/service-of-remembrance-3-2/
LOCATION:Bakken-Young Funeral & Cremation Services New Richmond\, 728 S Knowles Avenue\, New Richmond\, WI\, 54017\, United States
GEO:45.1154839;-92.5374943
X-APPLE-STRUCTURED-LOCATION;VALUE=URI;X-ADDRESS=Bakken-Young Funeral & Cremation Services New Richmond 728 S Knowles Avenue New Richmond WI 54017 United States;X-APPLE-RADIUS=500;X-TITLE=728 S Knowles Avenue:geo:-92.5374943,45.1154839
END:VEVENT
END:VCALENDAR